BEGIN:VCALENDAR
VERSION:2.0
PRODID:-//Tukios.com/
BEGIN:VEVENT
UID:04a9404d-2267-4130-bc0e-4a15ec82dc15@www.berstickerscottfuneralhome.com
DTSTAMP:20260424T171733Z
DTSTART:20260430T200000Z
DTEND:20260501T000000Z
SUMMARY:Gathering
DESCRIPTION:
URL:https://www.berstickerscottfuneralhome.com/obituaries/lynda-markiewicz
LOCATION:Bersticker-Scott Funeral Home 3453 Heatherdowns Blvd  Toledo OH 
	43614
GEO:41.6023344;-83.625172
END:VEVENT
END:VCALENDAR